Felt | Verdi |
AlreadyApplied | True |
Aperture | 7.1 |
ApertureValue | 7.1 |
ApproximateFocusDistance | 4294967295 |
BitsPerSample (1) | 8 8 8 |
BitsPerSample | 8 |
BlueHue | 0 |
BlueSaturation | 0 |
Brightness | +50 |
CameraProfile | Adobe Standard |
ChromaticAberrationB | 0 |
ChromaticAberrationR | 0 |
CircleOfConfusion | 0.019 mm |
Clarity | -40 |
ColorComponents | 3 |
ColorMode | RGB |
ColorNoiseReduction | 25 |
ColorNoiseReductionDetail | 50 |
ColorSpace | sRGB |
ColorTemperature | 6250 |
Contrast | +25 |
ConvertToGrayscale | False |
CreateDate (1) | 2011:11:12 14:30:04.00 |
CreateDate | 2011:11:12 14:30:04 |
CreatorTool | Adobe Photoshop CS5 Macintosh |
CropAngle | 0 |
CropBottom | 0.940778 |
CropConstrainToWarp | 0 |
CropHeight | 3182 |
CropLeft | 0 |
CropRight | 1 |
CropTop | 0.019999 |
CropUnit | pixels |
CropWidth | 5184 |
CustomRendered | Normal |
DateCreated (1) | 2011:11:12 |
DateCreated | 2011:11:12 14:30:04 |
DateTimeOriginal | 2011:11:12 14:30:04 |
Defringe | 0 |
DOF | inf (30.15 m - inf) |
ExifImageHeight | 614 |
ExifImageWidth | 1000 |
Exposure | +0.50 |
ExposureCompensation | 0 |
ExposureMode | Auto |
ExposureProgram | Program AE |
ExposureTime | 1/160 |
FillLight | 0 |
Firmware | 1.2.3 |
Flash | Off, Did not fire |
FlashCompensation | 0 |
FNumber | 7.1 |
FocalLength | 64.0 mm |
FocalLength35efl | 64.0 mm (35 mm equivalent: 100.5 mm) |
Format | image/jpeg |
FOV | 20.3 deg |
GrainAmount | 0 |
GreenHue | 0 |
GreenSaturation | 0 |
HasCrop | True |
HasSettings | True |
HighlightRecovery | 24 |
HueAdjustmentAqua | 0 |
HueAdjustmentBlue | 0 |
HueAdjustmentGreen | 0 |
HueAdjustmentMagenta | 0 |
HueAdjustmentOrange | 0 |
HueAdjustmentPurple | 0 |
HueAdjustmentRed | 0 |
HueAdjustmentYellow | 0 |
HyperfocalDistance | 30.15 m |
ICCProfileName | sRGB IEC61966-2.1 |
ImageHeight (1) | 3182 |
ImageHeight | 614 |
ImageNumber | 0 |
ImageSize | 1000x614 |
ImageWidth (1) | 5184 |
ImageWidth | 1000 |
ISO | 200 |
Lens | EF-S17-85mm f/4-5.6 IS USM |
LensID (1) | 234 |
LensID | Canon EF-S 17-85mm f/4-5.6 IS USM |
LensInfo | 17-85mm f/? |
LensManualDistortionAmount | 0 |
LensModel | EF-S17-85mm f/4-5.6 IS USM |
LensProfileEnable | 0 |
LensProfileSetup | LensDefaults |
LightValue | 12.0 |
LuminanceAdjustmentAqua | 0 |
LuminanceAdjustmentBlue | 0 |
LuminanceAdjustmentGreen | 0 |
LuminanceAdjustmentMagenta | 0 |
LuminanceAdjustmentOrange | 0 |
LuminanceAdjustmentPurple | 0 |
LuminanceAdjustmentRed | 0 |
LuminanceAdjustmentYellow | 0 |
LuminanceNoiseReductionContrast | 0 |
LuminanceNoiseReductionDetail | 50 |
LuminanceSmoothing | 17 |
Make | Canon |
MaxApertureValue | 5.7 |
Megapixels | 0.614 |
MeteringMode | Multi-segment |
Model | Canon EOS 7D |
ModifyDate (1) | 2011:11:22 20:17:07+01:00 |
ModifyDate | 2011:11:22 20:17:07 |
Orientation | Horizontal (normal) |
ParametricDarks | -8 |
ParametricHighlights | +39 |
ParametricHighlightSplit | 75 |
ParametricLights | -2 |
ParametricMidtoneSplit | 50 |
ParametricShadows | -1 |
ParametricShadowSplit | 25 |
PerspectiveHorizontal | 0 |
PerspectiveRotate | 0.0 |
PerspectiveScale | 100 |
PerspectiveVertical | 0 |
PhotometricInterpretation | RGB |
PostCropVignetteAmount | -8 |
PostCropVignetteFeather | 50 |
PostCropVignetteHighlightContrast | 0 |
PostCropVignetteMidpoint | 50 |
PostCropVignetteRoundness | 0 |
PostCropVignetteStyle | 1 |
ProcessVersion | 5.7 |
ProfileDescription | sRGB IEC61966-2.1 |
RedHue | 0 |
RedSaturation | 0 |
Saturation | +53 |
SaturationAdjustmentAqua | +54 |
SaturationAdjustmentBlue | 0 |
SaturationAdjustmentGreen | +1 |
SaturationAdjustmentMagenta | 0 |
SaturationAdjustmentOrange | +75 |
SaturationAdjustmentPurple | +6 |
SaturationAdjustmentRed | 0 |
SaturationAdjustmentYellow | 0 |
ScaleFactor35efl | 1.6 |
SceneCaptureType | Standard |
SerialNumber | 1080701352 |
Shadows | 10 |
ShadowTint | 0 |
SharpenDetail | 30 |
SharpenEdgeMasking | 28 |
SharpenRadius | +1.0 |
Sharpness | 43 |
ShutterSpeed | 1/160 |
ShutterSpeedValue | 1/160 |
Software | Adobe Photoshop CS5 Macintosh |
SplitToningBalance | 0 |
SplitToningHighlightHue | 0 |
SplitToningHighlightSaturation | 0 |
SplitToningShadowHue | 0 |
SplitToningShadowSaturation | 0 |
SubjectDistance | 4294967295 m |
Tint | +4 |
ToneCurve | 0, 0, 32, 22, 64, 56, 128, 128, 192, 196, 255, 255 |
ToneCurveName | Medium Contrast |
URL_List | |
Version | 6.5 |
Vibrance | +51 |
VignetteAmount | 0 |
WhiteBalance (1) | As Shot |
WhiteBalance | Auto |