Felt | Verdi |
AlreadyApplied | True |
Aperture | 11.0 |
ApertureValue | 11.0 |
ApproximateFocusDistance | 5.01 |
Artist | Ulf Rugumayo Amundsen |
BitsPerSample | 8 |
BlueHue | 0 |
BlueSaturation | 0 |
Brightness | 0 |
By-line | Ulf Rugumayo Amundsen |
CameraProfile | Embedded |
CFAPattern | [Red,Green][Green,Blue] |
ChromaticAberrationB | 0 |
ChromaticAberrationR | 0 |
CircleOfConfusion | 0.030 mm |
Clarity | 0 |
ColorComponents | 3 |
ColorNoiseReduction | 0 |
Contrast (1) | 0 |
Contrast | Normal |
ConvertToGrayscale | False |
Copyright | Rugumayo Amundsen Photos |
CopyrightFlag | True |
CopyrightNotice | Rugumayo Amundsen Photos |
CreateDate (1) | 2011:08:31 08:45:19.57 |
CreateDate | 2011:08:31 08:45:19 |
Creator | Ulf Rugumayo Amundsen |
CreatorAddress | Husejordet 39 |
CreatorCity | Asker |
CreatorCountry | Norway |
CreatorPostalCode | 1386 |
CreatorTool | Adobe Photoshop Lightroom 3.4.1 |
CreatorWorkEmail | ulam@online.no |
CreatorWorkTelephone | +47 92085247 |
CreatorWorkURL | www.uganda-wild-venture.com |
CropAngle | 0 |
CropBottom | 1 |
CropConstrainToWarp | 0 |
CropHeight | 731 |
CropLeft | 0 |
CropRight | 1 |
CropTop | 0.141378 |
CropUnit | pixels |
CropWidth | 1280 |
CustomRendered | Normal |
DateCreated (1) | 2011:08:31 |
DateCreated | 2011:08:31 08:45:19.057 |
DateTimeOriginal | 2011:08:31 08:45:19 |
Defringe | 0 |
DigitalZoomRatio | 1 |
DOF | inf (1.30 m - inf) |
Exposure | 0.00 |
ExposureCompensation | 0 |
ExposureMode | Manual |
ExposureProgram | Manual |
ExposureTime | 30 |
FillLight | 0 |
Flash | No Flash |
FNumber | 11.0 |
FocalLength | 24.0 mm |
FocalLength35efl | 24.0 mm (35 mm equivalent: 24.0 mm) |
FocalLengthIn35mmFormat | 24 mm |
Format | application/vnd.adobe.photoshop |
FOV | 73.7 deg |
GainControl | None |
GrainAmount | 0 |
GreenHue | 0 |
GreenSaturation | 0 |
HasCrop | True |
HasSettings | True |
HighlightRecovery | 0 |
HueAdjustmentAqua | 0 |
HueAdjustmentBlue | 0 |
HueAdjustmentGreen | 0 |
HueAdjustmentMagenta | 0 |
HueAdjustmentOrange | 0 |
HueAdjustmentPurple | 0 |
HueAdjustmentRed | 0 |
HueAdjustmentYellow | 0 |
HyperfocalDistance | 1.74 m |
ImageHeight | 731 |
ImageNumber | 1173 |
ImageSize | 1280x731 |
ImageWidth | 1280 |
IncrementalTemperature | -15 |
IncrementalTint | 0 |
ISO | 100 |
Lens | 24.0-70.0 mm f/2.8 |
LensID (1) | 147 |
LensID | AF-S Zoom-Nikkor 24-70mm f/2.8G ED |
LensInfo | 24-70mm f/2.8 |
LensManualDistortionAmount | 0 |
LensModel | 24.0-70.0 mm f/2.8 |
LensProfileChromaticAberrationScale | 100 |
LensProfileDistortionScale | 100 |
LensProfileEnable | 1 |
LensProfileFilename | NIKON D3X (Nikon FX 24-70mm f2.8 G ED).lcp |
LensProfileName | Adobe (Nikon AF-S NIKKOR 24-70mm f/2.8G ED) |
LensProfileSetup | LensDefaults |
LensProfileVignettingScale | 100 |
LightSource | Unknown |
LightValue | 2.0 |
LuminanceAdjustmentAqua | 0 |
LuminanceAdjustmentBlue | 0 |
LuminanceAdjustmentGreen | 0 |
LuminanceAdjustmentMagenta | 0 |
LuminanceAdjustmentOrange | 0 |
LuminanceAdjustmentPurple | 0 |
LuminanceAdjustmentRed | 0 |
LuminanceAdjustmentYellow | 0 |
LuminanceNoiseReductionContrast | 0 |
LuminanceNoiseReductionDetail | 50 |
LuminanceSmoothing | 14 |
Make | NIKON CORPORATION |
Marked | True |
MaxApertureValue | 2.8 |
Megapixels | 0.936 |
MeteringMode | Center-weighted average |
Model | NIKON D3S |
ModifyDate (1) | 2011:09:20 17:20:22+02:00 |
ModifyDate | 2011:09:20 17:20:22 |
PaintCorrectionActive | true |
PaintCorrectionAmount | 1.000000 |
PaintCorrectionBrightness (1) | 0.000000 |
PaintCorrectionBrightness (2) | 1.000000 |
PaintCorrectionBrightness | 0.181893 |
PaintCorrectionClarity (1) | 0.425827 |
PaintCorrectionClarity | 0.000000 |
PaintCorrectionContrast | 0.000000 |
PaintCorrectionExposure (1) | 0.504504 |
PaintCorrectionExposure (2) | 0.880055 |
PaintCorrectionExposure | 0.385478 |
PaintCorrectionHue | 50.000000 |
PaintCorrectionMaskCenterWeight | 0.000000 |
PaintCorrectionMaskFlow | 0.578966 |
PaintCorrectionMaskRadius (11) | 0.055367 |
PaintCorrectionMaskRadius (18) | 0.020910 |
PaintCorrectionMaskRadius (21) | 0.295079 |
PaintCorrectionMaskRadius (3) | 0.034320 |
PaintCorrectionMaskRadius (4) | 0.195742 |
PaintCorrectionMaskRadius (5) | 0.116956 |
PaintCorrectionMaskRadius (8) | 0.048227 |
PaintCorrectionMaskRadius | 0.125213 |
PaintCorrectionMaskValue | 0.241379 |
PaintCorrectionMaskWhat | Mask/Paint |
PaintCorrectionSaturation (1) | 0.642923 |
PaintCorrectionSaturation (3) | 0.000000 |
PaintCorrectionSaturation | 1.000000 |
PaintCorrectionSharpness | 0.000000 |
PaintCorrectionWhat | Correction |
ParametricDarks | 0 |
ParametricHighlights | 0 |
ParametricHighlightSplit | 75 |
ParametricLights | 0 |
ParametricMidtoneSplit | 50 |
ParametricShadows | 0 |
ParametricShadowSplit | 25 |
PerspectiveHorizontal | 0 |
PerspectiveRotate | 0.0 |
PerspectiveScale | 100 |
PerspectiveVertical | 0 |
PostCropVignetteAmount | -66 |
PostCropVignetteFeather | 50 |
PostCropVignetteHighlightContrast | 0 |
PostCropVignetteMidpoint | 77 |
PostCropVignetteRoundness | +35 |
PostCropVignetteStyle | 1 |
ProcessVersion | 5.7 |
ProfileDescription | sRGB IEC61966-2.1 |
RedHue | 0 |
RedSaturation | 0 |
Rights | Rugumayo Amundsen Photos |
Saturation (1) | 0 |
Saturation | Normal |
SaturationAdjustmentAqua | 0 |
SaturationAdjustmentBlue | 0 |
SaturationAdjustmentGreen | 0 |
SaturationAdjustmentMagenta | 0 |
SaturationAdjustmentOrange | +27 |
SaturationAdjustmentPurple | 0 |
SaturationAdjustmentRed | 0 |
SaturationAdjustmentYellow | +16 |
ScaleFactor35efl | 1.0 |
SceneCaptureType | Standard |
SceneType | Directly photographed |
SensingMethod | One-chip color area |
SerialNumber | 2055173 |
Shadows | 0 |
ShadowTint | 0 |
SharpenDetail | 15 |
SharpenEdgeMasking | 56 |
SharpenRadius | +1.4 |
Sharpness (1) | 35 |
Sharpness | Normal |
ShutterSpeed | 30 |
ShutterSpeedValue | 30 |
Software | Adobe Photoshop Lightroom 3.4.1 |
SplitToningBalance | 0 |
SplitToningHighlightHue | 0 |
SplitToningHighlightSaturation | 0 |
SplitToningShadowHue | 0 |
SplitToningShadowSaturation | 0 |
SubjectDistance | 5.01 m |
SubjectDistanceRange | Unknown |
ToneCurve | 0, 0, 255, 255 |
ToneCurveName | Linear |
Version | 6.4.1 |
Vibrance | 0 |
VignetteAmount | 0 |
WhiteBalance (1) | Custom |
WhiteBalance | Auto |