Felt | Verdi |
AlreadyApplied | True |
Aperture | 2.8 |
ApertureValue | 2.8 |
BitsPerSample | 8 |
BlueHue | 0 |
BlueSaturation | 0 |
Brightness | +5 |
By-line | Torbj¿rn Nilsen |
CameraProfile | Embedded |
ChromaticAberrationB | 0 |
ChromaticAberrationR | 0 |
CircleOfConfusion | 0.030 mm |
City | Bergen |
Clarity | +40 |
ColorComponents | 1 |
ColorNoiseReduction | 0 |
Contrast (2) | +27 |
Contrast | Normal |
ConvertToGrayscale | True |
Copyright | Torbjorn Nilsen |
CopyrightNotice | Torbj¿rn Nilsen |
Country | Norway |
Country-PrimaryLocationName | Norway |
CreateDate (1) | 2010:03:08 14:52:53.65+01:00 |
CreateDate | 2010:03:08 14:52:53 |
Creator | Torbjørn Nilsen |
CreatorAddress | Ulveveien 12 A |
CreatorCity | Lakselv |
CreatorCountry | Norge |
CreatorPostalCode | 9711 |
CreatorRegion | Finnmark |
CreatorTool | Adobe Photoshop Lightroom |
CreatorWorkEmail | t-nilsen@live.no |
CreatorWorkTelephone | 47 99554722 |
CreatorWorkURL | web.me.com/t.nilsen |
CropAngle | 0 |
CropBottom | 0.9776 |
CropHeight | 2053 |
CropLeft | 0.043269 |
CropRight | 0.980769 |
CropTop | 0.0128 |
CropUnit | pixels |
CropWidth | 1328 |
CustomRendered | Normal |
DateTimeDigitized | 2010:03:08 14:52:53.65+01:00 |
DateTimeOriginal (1) | 2010:03:08 14:52:53.65+01:00 |
DateTimeOriginal | 2010:03:08 14:52:53 |
Defringe | 0 |
DigitalZoomRatio | 1 |
ExifImageHeight | 2053 |
ExifImageWidth | 1328 |
Exposure | -0.33 |
ExposureCompensation | 0 |
ExposureMode | Manual |
ExposureProgram | Manual |
ExposureTime | 1/125 |
FillLight | 15 |
Flash | No Flash |
FlashFired | False |
FlashFunction | False |
FlashMode | Unknown |
FlashRedEyeMode | False |
FlashReturn | No return detection |
FNumber | 2.8 |
FocalLength | 70.0 mm |
FocalLength35efl | 70.0 mm (35 mm equivalent: 70.0 mm) |
FocalLengthIn35mmFormat | 70 mm |
FOV | 28.8 deg |
GainControl | None |
GrayMixerAqua | -18 |
GrayMixerBlue | +9 |
GrayMixerGreen | -27 |
GrayMixerMagenta | +3 |
GrayMixerOrange | -19 |
GrayMixerPurple | +15 |
GrayMixerRed | -10 |
GrayMixerYellow | -23 |
GreenHue | 0 |
GreenSaturation | 0 |
HasCrop | True |
HasSettings | True |
HighlightRecovery | 20 |
HyperfocalDistance | 58.24 m |
ImageHeight | 2053 |
ImageSize | 1328x2053 |
ImageWidth | 1328 |
IncrementalTemperature | 0 |
IncrementalTint | 0 |
Instructions | grnodCzmQweaLy4Hejr41g |
ISO | 200 |
Keywords | Bergen |
LightSource | Cloudy |
LightValue | 8.9 |
LuminanceSmoothing | 0 |
Make | NIKON CORPORATION |
MaxApertureValue | 2.8 |
Megapixels | 2.7 |
MeteringMode | Spot |
Model | NIKON D700 |
ModifyDate (1) | 2010:06:15 21:19:19+02:00 |
ModifyDate | 2010:06:15 21:19:19 |
ParametricDarks | -15 |
ParametricHighlights | +8 |
ParametricHighlightSplit | 75 |
ParametricLights | +15 |
ParametricMidtoneSplit | 50 |
ParametricShadows | -30 |
ParametricShadowSplit | 25 |
PostCropVignetteAmount | 0 |
ProfileDescription | sRGB IEC61966-2.1 |
RedHue | 0 |
RedSaturation | 0 |
Rights | Torbjørn Nilsen |
Saturation | Normal |
ScaleFactor35efl | 1.0 |
SceneCaptureType | Standard |
SensingMethod | One-chip color area |
Shadows | 33 |
ShadowTint | 0 |
SharpenDetail | 25 |
SharpenEdgeMasking | 0 |
SharpenRadius | +1.0 |
Sharpness (2) | 0 |
Sharpness | Normal |
ShutterSpeed | 1/125 |
ShutterSpeedValue | 1/125 |
Software | Aperture 3.0.2 |
SpecialInstructions | grnodCzmQweaLy4Hejr41g |
SplitToningBalance | 0 |
SplitToningHighlightHue | 0 |
SplitToningHighlightSaturation | 0 |
SplitToningShadowHue | 0 |
SplitToningShadowSaturation | 0 |
Subject | Bergen |
SubjectDistanceRange | Unknown |
ToneCurve | 0, 0, 32, 22, 64, 56, 128, 128, 192, 196, 255, 255 |
ToneCurveName | Medium Contrast |
Version | 5.6 |
VignetteAmount | 0 |
WhiteBalance (2) | As Shot |
WhiteBalance | Manual |