Felt | Verdi |
AlreadyApplied | True |
Aperture | 4.0 |
ApertureValue | 4.0 |
BitsPerSample (1) | 8, 8, 8 |
BitsPerSample | 8 |
BlueHue | 0 |
BlueSaturation | 0 |
Brightness | +19 |
CameraProfile | Embedded |
ChromaticAberrationB | +5 |
ChromaticAberrationR | +43 |
CircleOfConfusion | 0.019 mm |
Clarity | 0 |
ColorComponents | 3 |
ColorMode | RGB |
ColorNoiseReduction | 0 |
ColorSpace (1) | Unknown (-1) |
ColorSpace | Uncalibrated |
Contrast | -5 |
ConvertToGrayscale | False |
Copyright | Anita Nilsen |
CopyrightFlag | False |
CopyrightNotice | Anita Nilsen |
CreateDate (1) | 2008:07:07 22:39:51+02:00 |
CreateDate | 2008:07:02 18:43:03 |
CreatorTool | Adobe Photoshop CS3 Windows |
CustomRendered | Normal |
DateTimeDigitized | 2008:07:02 18:43:03.01+02:00 |
DateTimeOriginal (1) | 2008:07:02 18:43:03.01+02:00 |
DateTimeOriginal | 2008:07:02 18:43:03 |
Defringe | 0 |
ExifImageHeight | 768 |
ExifImageWidth | 512 |
Exposure | +2.90 |
ExposureCompensation | 0 |
ExposureMode | Manual |
ExposureProgram | Manual |
ExposureTime | 1/60 |
FillLight | 0 |
Firmware | 1.0.3 |
Flash | Off, Did not fire |
FlashCompensation | 0 |
FlashFired | False |
FlashFunction | False |
FlashMode | Off |
FlashRedEyeMode | False |
FlashReturn | No return detection |
FNumber | 4.0 |
FocalLength | 18.0 mm |
FocalLength35efl | 18.0 mm (35 mm equivalent: 29.1 mm) |
Format | image/jpeg |
FOV | 63.4 deg |
GPSVersionID | 2.2.0.0 |
GreenHue | 0 |
GreenSaturation | 0 |
HasCrop | False |
HasSettings | True |
HighlightRecovery | 39 |
HueAdjustmentAqua | -11 |
HueAdjustmentBlue | -2 |
HueAdjustmentGreen | 0 |
HueAdjustmentMagenta | +63 |
HueAdjustmentOrange | -72 |
HueAdjustmentPurple | 0 |
HueAdjustmentRed | -87 |
HueAdjustmentYellow | -100 |
HyperfocalDistance | 4.36 m |
ICCProfileName | Adobe RGB (1998) |
ImageHeight (1) | 3888 |
ImageHeight | 768 |
ImageNumber | 0 |
ImageSize | 512x768 |
ImageWidth (1) | 2592 |
ImageWidth | 512 |
IncrementalTemperature | -63 |
IncrementalTint | 0 |
ISO | 1000 |
Label | Select |
Lens | EF-S18-55mm f/3.5-5.6 |
LensInfo | 18-55mm f/? |
LightValue | 6.6 |
LuminanceAdjustmentAqua | 0 |
LuminanceAdjustmentBlue | 0 |
LuminanceAdjustmentGreen | 0 |
LuminanceAdjustmentMagenta | 0 |
LuminanceAdjustmentOrange | 0 |
LuminanceAdjustmentPurple | 0 |
LuminanceAdjustmentRed | 0 |
LuminanceAdjustmentYellow | 0 |
LuminanceSmoothing | 0 |
Make | Canon |
MaxApertureValue | 3.5 |
Megapixels | 0.393 |
MeteringMode | Multi-segment |
Model | Canon EOS 40D |
ModifyDate (1) | 2008:07:14 09:18:02+02:00 |
ModifyDate | 2008:07:14 09:18:02 |
Orientation | Horizontal (normal) |
ParametricDarks | 0 |
ParametricHighlights | 0 |
ParametricHighlightSplit | 75 |
ParametricLights | 0 |
ParametricMidtoneSplit | 50 |
ParametricShadows | 0 |
ParametricShadowSplit | 25 |
PhotometricInterpretation | RGB |
PlanarConfiguration | Chunky |
PreservedFileName | _MG_0013.JPG |
ProfileDescription | Adobe RGB (1998) |
Rating | 0 |
RawFileName | 20080702_5012.JPG |
RedHue | 0 |
RedSaturation | 0 |
Rights | Anita Nilsen |
SamplesPerPixel | 3 |
Saturation | +80 |
SaturationAdjustmentAqua | 0 |
SaturationAdjustmentBlue | 0 |
SaturationAdjustmentGreen | 0 |
SaturationAdjustmentMagenta | 0 |
SaturationAdjustmentOrange | 0 |
SaturationAdjustmentPurple | 0 |
SaturationAdjustmentRed | 0 |
SaturationAdjustmentYellow | 0 |
ScaleFactor35efl | 1.6 |
SceneCaptureType | Standard |
SerialNumber | 530128945 |
Shadows | 5 |
ShadowTint | 0 |
SharpenDetail | 39 |
SharpenEdgeMasking | 38 |
SharpenRadius | +0.6 |
Sharpness | 53 |
ShutterSpeed | 1/60 |
ShutterSpeedValue | 1/60 |
Software | Adobe Photoshop CS3 Windows |
SplitToningBalance | -76 |
SplitToningHighlightHue | 203 |
SplitToningHighlightSaturation | 28 |
SplitToningShadowHue | 161 |
SplitToningShadowSaturation | 43 |
ToneCurve | 0, 0, 255, 255 |
ToneCurveName | Linear |
URL_List | |
Version | 4.4.1 |
Vibrance | -47 |
VignetteAmount | -84 |
VignetteMidpoint | 10 |
WhiteBalance (2) | Custom |
WhiteBalance | Manual |