Felt | Verdi |
AlreadyApplied | True |
Aperture | 22.0 |
ApertureValue | 22.0 |
Artist | unknown |
BitsPerSample | 8 |
BlueHue | 0 |
BlueSaturation | 0 |
Brightness | +44 |
By-line | unknown |
CameraProfile | ACR 3.4 |
ChromaticAberrationB | 0 |
ChromaticAberrationR | 0 |
CircleOfConfusion | 0.019 mm |
Clarity | 0 |
ColorComponents | 3 |
ColorMode | RGB |
ColorNoiseReduction | 40 |
ColorSpace (1) | Unknown (-1) |
ColorSpace | Uncalibrated |
ColorTemperature | 4850 |
Contrast | +34 |
ConvertToGrayscale | False |
CopyrightFlag | False |
CreateDate (1) | 2007:07:15 17:05:19+02:00 |
CreateDate | 2007:07:14 13:54:37 |
Creator | unknown |
CreatorTool | Adobe Photoshop CS3 Macintosh |
CropAngle | -0.179329 |
CropBottom | 0.995327 |
CropLeft | 0.001298 |
CropRight | 0.998702 |
CropTop | 0.004673 |
CustomRendered | Normal |
DateTimeDigitized | 2007:07:14 13:54:37+02:00 |
DateTimeOriginal (1) | 2007:07:14 13:54:37+02:00 |
DateTimeOriginal | 2007:07:14 13:54:37 |
Defringe | 0 |
ExifImageHeight | 760 |
ExifImageWidth | 1140 |
Exposure | +0.65 |
ExposureCompensation | 0 |
ExposureMode | Auto |
ExposureProgram | Aperture-priority AE |
ExposureTime | 1/50 |
FillLight | 3 |
Firmware | 1.0.5 |
Flash | Off, Did not fire |
FlashCompensation | 0 |
FlashFired | False |
FlashFunction | False |
FlashMode | Off |
FlashRedEyeMode | False |
FlashReturn | No return detection |
FNumber | 22.0 |
FocalLength | 17.0 mm |
FocalLength35efl | 17.0 mm (35 mm equivalent: 27.2 mm) |
Format | image/jpeg |
FOV | 66.9 deg |
GreenHue | 0 |
GreenSaturation | 0 |
HasCrop | True |
HasSettings | True |
HighlightRecovery | 0 |
HueAdjustmentAqua | 0 |
HueAdjustmentBlue | +6 |
HueAdjustmentGreen | +56 |
HueAdjustmentMagenta | 0 |
HueAdjustmentOrange | +6 |
HueAdjustmentPurple | 0 |
HueAdjustmentRed | 0 |
HueAdjustmentYellow | -73 |
HyperfocalDistance | 0.70 m |
ICCProfileName | Adobe RGB (1998) |
ImageHeight | 760 |
ImageNumber | 112 |
ImageSize | 1140x760 |
ImageWidth | 1140 |
ISO | 400 |
Lens | EF-S17-55mm f/2.8 IS USM |
LensInfo | 17-55mm f/? |
LightValue | 12.6 |
LuminanceAdjustmentAqua | +18 |
LuminanceAdjustmentBlue | -28 |
LuminanceAdjustmentGreen | +63 |
LuminanceAdjustmentMagenta | -2 |
LuminanceAdjustmentOrange | +19 |
LuminanceAdjustmentPurple | +18 |
LuminanceAdjustmentRed | +18 |
LuminanceAdjustmentYellow | +21 |
LuminanceSmoothing | 40 |
Make | Canon |
MaxApertureValue | 2.8 |
Megapixels | 0.866 |
MeteringMode | Spot |
Model | Canon EOS 30D |
ModifyDate (1) | 2007:07:15 17:05:19+02:00 |
ModifyDate | 2007:07:15 17:05:19 |
Orientation | Horizontal (normal) |
OwnerName | unknown |
ParametricDarks | 0 |
ParametricHighlights | +42 |
ParametricHighlightSplit | 70 |
ParametricLights | 0 |
ParametricMidtoneSplit | 50 |
ParametricShadows | +31 |
ParametricShadowSplit | 21 |
ProfileDescription | Adobe RGB (1998) |
Rating | 0 |
RawFileName | _MG_9319.CR2 |
RedHue | 0 |
RedSaturation | 0 |
Saturation | 0 |
SaturationAdjustmentAqua | +16 |
SaturationAdjustmentBlue | +8 |
SaturationAdjustmentGreen | +14 |
SaturationAdjustmentMagenta | 0 |
SaturationAdjustmentOrange | 0 |
SaturationAdjustmentPurple | 0 |
SaturationAdjustmentRed | 0 |
SaturationAdjustmentYellow | 0 |
ScaleFactor35efl | 1.6 |
SceneCaptureType | Standard |
SerialNumber | 1620916715 |
Shadows | 2 |
ShadowTint | 0 |
SharpenDetail | 35 |
SharpenEdgeMasking | 7 |
SharpenRadius | +0.6 |
Sharpness | 48 |
ShutterSpeed | 1/50 |
ShutterSpeedValue | 1/50 |
Software | Adobe Photoshop CS3 Macintosh |
SplitToningBalance | 0 |
SplitToningHighlightHue | 0 |
SplitToningHighlightSaturation | 0 |
SplitToningShadowHue | 0 |
SplitToningShadowSaturation | 0 |
TimeZoneOffset | 2 2 |
Tint | +1 |
ToneCurve | 0, 0, 32, 22, 64, 56, 128, 128, 192, 196, 255, 255 |
ToneCurveName | Medium Contrast |
URL_List | |
Version | 4.1 |
Vibrance | +26 |
VignetteAmount | 0 |
WhiteBalance (2) | Custom |
WhiteBalance | Auto |